Package: OmicCircos Version: 1.48.0 Command: /home/biocbuild/bbs-3.22-bioc/R/bin/R CMD INSTALL OmicCircos StartedAt: 2025-11-20 16:06:54 -0500 (Thu, 20 Nov 2025) EndedAt: 2025-11-20 16:07:04 -0500 (Thu, 20 Nov 2025) EllapsedTime: 10.4 seconds RetCode: 0 Status: OK