Package: OVESEG Version: 1.24.0 Command: E:\biocbuild\bbs-3.21-bioc\R\bin\R.exe CMD check --no-multiarch --install=check:OVESEG.install-out.txt --library=E:\biocbuild\bbs-3.21-bioc\R\library --no-vignettes --timings OVESEG_1.24.0.tar.gz StartedAt: 2025-08-15 05:08:27 -0400 (Fri, 15 Aug 2025) EndedAt: 2025-08-15 05:10:28 -0400 (Fri, 15 Aug 2025) EllapsedTime: 121.8 seconds RetCode: 0 Status: OK CheckDir: OVESEG.Rcheck Warnings: 0