Package: OVESEG Version: 1.24.0 Command: /home/biocbuild/bbs-3.21-bioc/R/bin/R CMD INSTALL OVESEG StartedAt: 2025-10-15 15:17:04 -0400 (Wed, 15 Oct 2025) EndedAt: 2025-10-15 15:17:20 -0400 (Wed, 15 Oct 2025) EllapsedTime: 16.1 seconds RetCode: 0 Status: OK