Package: OVESEG Version: 1.24.0 Command: /home/biocbuild/bbs-3.21-bioc/R/bin/R CMD build --keep-empty-dirs --no-resave-data OVESEG StartedAt: 2025-10-15 19:00:41 -0400 (Wed, 15 Oct 2025) EndedAt: 2025-10-15 19:06:31 -0400 (Wed, 15 Oct 2025) EllapsedTime: 349.4 seconds RetCode: 0 Status: OK PackageFile: OVESEG_1.24.0.tar.gz PackageFileSize: 798.4 KiB