Package: OVESEG Version: 1.24.0 Command: /Library/Frameworks/R.framework/Resources/bin/R CMD check --install=check:OVESEG.install-out.txt --library=/Library/Frameworks/R.framework/Resources/library --no-vignettes --timings OVESEG_1.24.0.tar.gz StartedAt: 2025-10-14 07:52:10 -0400 (Tue, 14 Oct 2025) EndedAt: 2025-10-14 07:55:19 -0400 (Tue, 14 Oct 2025) EllapsedTime: 188.9 seconds RetCode: 0 Status: OK CheckDir: OVESEG.Rcheck Warnings: 0