Package: OVESEG Version: 1.24.0 Command: /home/biocbuild/R/R/bin/R CMD build --keep-empty-dirs --no-resave-data OVESEG StartedAt: 2025-10-14 03:18:08 -0000 (Tue, 14 Oct 2025) EndedAt: 2025-10-14 03:30:00 -0000 (Tue, 14 Oct 2025) EllapsedTime: 711.4 seconds RetCode: 0 Status: OK PackageFile: OVESEG_1.24.0.tar.gz PackageFileSize: 816.7 KiB