Package: OVESEG Version: 1.24.0 Command: /Library/Frameworks/R.framework/Resources/bin/R CMD INSTALL OVESEG StartedAt: 2025-10-13 16:07:16 -0400 (Mon, 13 Oct 2025) EndedAt: 2025-10-13 16:07:33 -0400 (Mon, 13 Oct 2025) EllapsedTime: 16.8 seconds RetCode: 0 Status: OK