Package: OTUbase Version: 1.58.0 Command: /Library/Frameworks/R.framework/Resources/bin/R CMD build --keep-empty-dirs --no-resave-data OTUbase StartedAt: 2025-04-21 17:49:51 -0400 (Mon, 21 Apr 2025) EndedAt: 2025-04-21 17:51:15 -0400 (Mon, 21 Apr 2025) EllapsedTime: 83.3 seconds RetCode: 0 Status: OK PackageFile: OTUbase_1.58.0.tar.gz PackageFileSize: 179.3 KiB