Package: OSTA.data Version: 1.2.0 Command: /home/biocbuild/bbs-3.22-bioc/R/bin/R CMD INSTALL OSTA.data StartedAt: 2025-11-06 15:08:43 -0500 (Thu, 06 Nov 2025) EndedAt: 2025-11-06 15:08:49 -0500 (Thu, 06 Nov 2025) EllapsedTime: 5.7 seconds RetCode: 0 Status: OK