Package: OSTA.data Version: 1.2.0 Command: /home/biocbuild/bbs-3.22-bioc/R/bin/R CMD build --keep-empty-dirs --no-resave-data --md5 OSTA.data StartedAt: 2025-11-06 19:09:23 -0500 (Thu, 06 Nov 2025) EndedAt: 2025-11-06 19:10:48 -0500 (Thu, 06 Nov 2025) EllapsedTime: 85.1 seconds RetCode: 1 Status: ERROR PackageFile: None PackageFileSize: NA