Package: OSTA.data Version: 1.1.2 Command: /Library/Frameworks/R.framework/Resources/bin/R CMD check --install=check:OSTA.data.install-out.txt --library=/Library/Frameworks/R.framework/Resources/library --no-vignettes --timings OSTA.data_1.1.2.tar.gz StartedAt: 2025-10-08 23:53:47 -0400 (Wed, 08 Oct 2025) EndedAt: 2025-10-08 23:56:37 -0400 (Wed, 08 Oct 2025) EllapsedTime: 170.3 seconds RetCode: 0 Status: OK CheckDir: OSTA.data.Rcheck Warnings: 0