Package: OSTA.data Version: 1.1.2 Command: rm -rf OSTA.data.buildbin-libdir && mkdir OSTA.data.buildbin-libdir && /Users/biocbuild/BBS/utils/build-universal.sh OSTA.data_1.1.2.tar.gz /Library/Frameworks/R.framework/Resources/bin/R OSTA.data.buildbin-libdir StartedAt: 2025-10-08 22:57:50 -0400 (Wed, 08 Oct 2025) EndedAt: 2025-10-08 22:57:53 -0400 (Wed, 08 Oct 2025) EllapsedTime: 3.1 seconds RetCode: 0 Status: OK PackageFile: OSTA.data_1.1.2.tgz PackageFileSize: 708.8 KiB