Package: OPWeight Version: 1.31.0 Command: /home/biocbuild/R/R/bin/R CMD check --install=check:OPWeight.install-out.txt --library=/home/biocbuild/R/R/site-library --no-vignettes --timings OPWeight_1.31.0.tar.gz StartedAt: 2025-10-17 11:53:32 -0000 (Fri, 17 Oct 2025) EndedAt: 2025-10-17 11:54:31 -0000 (Fri, 17 Oct 2025) EllapsedTime: 59.0 seconds RetCode: 0 Status: OK CheckDir: OPWeight.Rcheck Warnings: 0