Package: OPWeight Version: 1.32.0 Command: /home/biocbuild/bbs-3.22-bioc/R/bin/R CMD INSTALL OPWeight StartedAt: 2025-11-06 15:07:16 -0500 (Thu, 06 Nov 2025) EndedAt: 2025-11-06 15:07:31 -0500 (Thu, 06 Nov 2025) EllapsedTime: 14.9 seconds RetCode: 0 Status: OK