Package: OPWeight Version: 1.32.0 Command: /home/biocbuild/bbs-3.22-bioc/R/bin/R CMD build --keep-empty-dirs --no-resave-data --md5 OPWeight StartedAt: 2025-11-06 19:07:43 -0500 (Thu, 06 Nov 2025) EndedAt: 2025-11-06 19:10:05 -0500 (Thu, 06 Nov 2025) EllapsedTime: 142.2 seconds RetCode: 0 Status: OK PackageFile: OPWeight_1.32.0.tar.gz PackageFileSize: 548.7 KiB