Package: OLINgui Version: 1.83.0 Command: /home/biocbuild/R/R/bin/R CMD INSTALL OLINgui StartedAt: 2025-10-23 20:21:02 -0000 (Thu, 23 Oct 2025) EndedAt: 2025-10-23 20:21:26 -0000 (Thu, 23 Oct 2025) EllapsedTime: 23.7 seconds RetCode: 0 Status: OK