Package: OLINgui Version: 1.83.0 Command: /home/biocbuild/R/R/bin/R CMD build --keep-empty-dirs --no-resave-data OLINgui StartedAt: 2025-10-21 01:47:00 -0000 (Tue, 21 Oct 2025) EndedAt: 2025-10-21 01:47:10 -0000 (Tue, 21 Oct 2025) EllapsedTime: 10.0 seconds RetCode: 0 Status: OK PackageFile: OLINgui_1.83.0.tar.gz PackageFileSize: 366 KiB