Package: OLINgui Version: 1.83.0 Command: F:\biocbuild\bbs-3.22-bioc\R\bin\R.exe CMD check --no-multiarch --install=check:OLINgui.install-out.txt --library=F:\biocbuild\bbs-3.22-bioc\R\library --no-vignettes --timings OLINgui_1.83.0.tar.gz StartedAt: 2025-08-15 05:58:29 -0400 (Fri, 15 Aug 2025) EndedAt: 2025-08-15 05:59:15 -0400 (Fri, 15 Aug 2025) EllapsedTime: 45.7 seconds RetCode: 0 Status: OK CheckDir: OLINgui.Rcheck Warnings: 0