Package: OLINgui Version: 1.84.0 Command: /home/biocbuild/bbs-3.22-bioc/R/bin/R CMD INSTALL OLINgui StartedAt: 2025-11-06 15:04:39 -0500 (Thu, 06 Nov 2025) EndedAt: 2025-11-06 15:04:50 -0500 (Thu, 06 Nov 2025) EllapsedTime: 10.9 seconds RetCode: 0 Status: OK