Package: OLINgui Version: 1.84.0 Command: /home/biocbuild/bbs-3.22-bioc/R/bin/R CMD check --install=check:OLINgui.install-out.txt --library=/home/biocbuild/bbs-3.22-bioc/R/site-library --timings OLINgui_1.84.0.tar.gz StartedAt: 2025-11-07 02:12:33 -0500 (Fri, 07 Nov 2025) EndedAt: 2025-11-07 02:13:04 -0500 (Fri, 07 Nov 2025) EllapsedTime: 31.0 seconds RetCode: 0 Status: OK CheckDir: OLINgui.Rcheck Warnings: 0