Package: OLIN Version: 1.87.0 Command: /home/biocbuild/R/R/bin/R CMD INSTALL OLIN StartedAt: 2025-10-23 20:19:24 -0000 (Thu, 23 Oct 2025) EndedAt: 2025-10-23 20:19:57 -0000 (Thu, 23 Oct 2025) EllapsedTime: 32.9 seconds RetCode: 0 Status: OK