Package: OLIN Version: 1.88.0 Command: /home/biocbuild/R/R/bin/R CMD check --install=check:OLIN.install-out.txt --library=/home/biocbuild/R/R/site-library --no-vignettes --timings OLIN_1.88.0.tar.gz StartedAt: 2025-11-21 13:46:22 -0000 (Fri, 21 Nov 2025) EndedAt: 2025-11-21 13:47:42 -0000 (Fri, 21 Nov 2025) EllapsedTime: 80.1 seconds RetCode: 0 Status: OK CheckDir: OLIN.Rcheck Warnings: 0