Package: NuPoP Version: 2.18.0 Command: /home/biocbuild/R/R/bin/R CMD build --keep-empty-dirs --no-resave-data NuPoP StartedAt: 2025-11-14 03:50:58 -0000 (Fri, 14 Nov 2025) EndedAt: 2025-11-14 03:51:18 -0000 (Fri, 14 Nov 2025) EllapsedTime: 20.0 seconds RetCode: 0 Status: OK PackageFile: NuPoP_2.18.0.tar.gz PackageFileSize: 6.089 MiB