Package: NuPoP Version: 2.18.0 Command: /home/biocbuild/bbs-3.22-bioc/R/bin/R CMD check --install=check:NuPoP.install-out.txt --library=/home/biocbuild/bbs-3.22-bioc/R/site-library --timings NuPoP_2.18.0.tar.gz StartedAt: 2025-11-10 02:26:12 -0500 (Mon, 10 Nov 2025) EndedAt: 2025-11-10 02:26:40 -0500 (Mon, 10 Nov 2025) EllapsedTime: 28.0 seconds RetCode: 0 Status: OK CheckDir: NuPoP.Rcheck Warnings: 0