Package: NuPoP Version: 2.18.0 Command: /Library/Frameworks/R.framework/Resources/bin/R CMD INSTALL NuPoP StartedAt: 2025-11-03 15:09:45 -0500 (Mon, 03 Nov 2025) EndedAt: 2025-11-03 15:10:28 -0500 (Mon, 03 Nov 2025) EllapsedTime: 43.4 seconds RetCode: 0 Status: OK