Package: NuPoP Version: 2.18.0 Command: /Library/Frameworks/R.framework/Resources/bin/R CMD build --keep-empty-dirs --no-resave-data NuPoP StartedAt: 2025-11-03 18:03:49 -0500 (Mon, 03 Nov 2025) EndedAt: 2025-11-03 18:04:11 -0500 (Mon, 03 Nov 2025) EllapsedTime: 22.8 seconds RetCode: 0 Status: OK PackageFile: NuPoP_2.18.0.tar.gz PackageFileSize: 6.133 MiB