Package: NetSAM Version: 1.48.0 Command: rm -rf NetSAM.buildbin-libdir && mkdir NetSAM.buildbin-libdir && E:\biocbuild\bbs-3.21-bioc\R\bin\R.exe CMD INSTALL --build --library=NetSAM.buildbin-libdir NetSAM_1.48.0.tar.gz StartedAt: 2025-08-15 09:50:42 -0400 (Fri, 15 Aug 2025) EndedAt: 2025-08-15 09:51:23 -0400 (Fri, 15 Aug 2025) EllapsedTime: 41.3 seconds RetCode: 0 Status: OK PackageFile: NetSAM_1.48.0.zip PackageFileSize: 1.211 MiB