Package: NetSAM Version: 1.48.0 Command: rm -rf NetSAM.buildbin-libdir && mkdir NetSAM.buildbin-libdir && /Users/biocbuild/BBS/utils/build-universal.sh NetSAM_1.48.0.tar.gz /Library/Frameworks/R.framework/Resources/bin/R NetSAM.buildbin-libdir StartedAt: 2025-10-14 14:15:40 -0400 (Tue, 14 Oct 2025) EndedAt: 2025-10-14 14:16:53 -0400 (Tue, 14 Oct 2025) EllapsedTime: 73.1 seconds RetCode: 0 Status: OK PackageFile: NetSAM_1.48.0.tgz PackageFileSize: 1.231 MiB