Package: NetActivity Version: 1.12.0 Command: /home/biocbuild/R/R/bin/R CMD INSTALL NetActivity StartedAt: 2025-11-20 22:22:11 -0000 (Thu, 20 Nov 2025) EndedAt: 2025-11-20 22:22:44 -0000 (Thu, 20 Nov 2025) EllapsedTime: 32.4 seconds RetCode: 0 Status: OK