Package: NetActivity Version: 1.12.0 Command: /home/biocbuild/R/R/bin/R CMD build --keep-empty-dirs --no-resave-data NetActivity StartedAt: 2025-11-21 04:23:46 -0000 (Fri, 21 Nov 2025) EndedAt: 2025-11-21 04:25:05 -0000 (Fri, 21 Nov 2025) EllapsedTime: 79.0 seconds RetCode: 0 Status: OK PackageFile: NetActivity_1.12.0.tar.gz PackageFileSize: 420.9 KiB