Package: NetActivity Version: 1.10.0 Command: /Library/Frameworks/R.framework/Resources/bin/R CMD INSTALL NetActivity StartedAt: 2025-10-13 16:48:37 -0400 (Mon, 13 Oct 2025) EndedAt: 2025-10-13 16:49:06 -0400 (Mon, 13 Oct 2025) EllapsedTime: 29.0 seconds RetCode: 0 Status: OK