Package: NetActivity Version: 1.10.0 Command: /Library/Frameworks/R.framework/Resources/bin/R CMD build --keep-empty-dirs --no-resave-data NetActivity StartedAt: 2025-10-14 05:37:28 -0400 (Tue, 14 Oct 2025) EndedAt: 2025-10-14 05:38:56 -0400 (Tue, 14 Oct 2025) EllapsedTime: 87.5 seconds RetCode: 0 Status: OK PackageFile: NetActivity_1.10.0.tar.gz PackageFileSize: 438.2 KiB