Package: Nebulosa Version: 1.18.0 Command: /Library/Frameworks/R.framework/Resources/bin/R CMD INSTALL Nebulosa StartedAt: 2025-10-06 15:33:52 -0400 (Mon, 06 Oct 2025) EndedAt: 2025-10-06 15:34:56 -0400 (Mon, 06 Oct 2025) EllapsedTime: 63.9 seconds RetCode: 0 Status: OK