Package: Nebulosa Version: 1.18.0 Command: /Library/Frameworks/R.framework/Resources/bin/R CMD check --install=check:Nebulosa.install-out.txt --library=/Library/Frameworks/R.framework/Resources/library --no-vignettes --timings Nebulosa_1.18.0.tar.gz StartedAt: 2025-10-07 07:16:00 -0400 (Tue, 07 Oct 2025) EndedAt: 2025-10-07 07:23:08 -0400 (Tue, 07 Oct 2025) EllapsedTime: 428.1 seconds RetCode: 0 Status: OK CheckDir: Nebulosa.Rcheck Warnings: 0