Package: Nebulosa Version: 1.18.0 Command: /Library/Frameworks/R.framework/Resources/bin/R CMD build --keep-empty-dirs --no-resave-data Nebulosa StartedAt: 2025-10-06 21:03:11 -0400 (Mon, 06 Oct 2025) EndedAt: 2025-10-06 21:10:23 -0400 (Mon, 06 Oct 2025) EllapsedTime: 431.7 seconds RetCode: 0 Status: OK PackageFile: Nebulosa_1.18.0.tar.gz PackageFileSize: 3.436 MiB