Package: Nebulosa Version: 1.18.0 Command: rm -rf Nebulosa.buildbin-libdir && mkdir Nebulosa.buildbin-libdir && /Users/biocbuild/BBS/utils/build-universal.sh Nebulosa_1.18.0.tar.gz /Library/Frameworks/R.framework/Resources/bin/R Nebulosa.buildbin-libdir StartedAt: 2025-10-07 13:56:35 -0400 (Tue, 07 Oct 2025) EndedAt: 2025-10-07 13:58:30 -0400 (Tue, 07 Oct 2025) EllapsedTime: 114.4 seconds RetCode: 0 Status: OK PackageFile: Nebulosa_1.18.0.tgz PackageFileSize: 3.398 MiB