Package: NanoMethViz Version: 3.6.0 Command: /Library/Frameworks/R.framework/Resources/bin/R CMD INSTALL NanoMethViz StartedAt: 2025-11-06 15:28:58 -0500 (Thu, 06 Nov 2025) EndedAt: 2025-11-06 15:29:23 -0500 (Thu, 06 Nov 2025) EllapsedTime: 24.9 seconds RetCode: 0 Status: OK