Package: NanoMethViz Version: 3.6.0 Command: /Library/Frameworks/R.framework/Resources/bin/R CMD check --install=check:NanoMethViz.install-out.txt --library=/Library/Frameworks/R.framework/Resources/library --no-vignettes --timings NanoMethViz_3.6.0.tar.gz StartedAt: 2025-11-06 21:02:31 -0500 (Thu, 06 Nov 2025) EndedAt: 2025-11-06 21:06:56 -0500 (Thu, 06 Nov 2025) EllapsedTime: 264.7 seconds RetCode: 0 Status: OK CheckDir: NanoMethViz.Rcheck Warnings: 0