Package: NTW Version: 1.58.0 Command: /home/biocbuild/bbs-3.21-bioc/R/bin/R CMD INSTALL NTW StartedAt: 2025-10-08 15:05:05 -0400 (Wed, 08 Oct 2025) EndedAt: 2025-10-08 15:05:25 -0400 (Wed, 08 Oct 2025) EllapsedTime: 19.6 seconds RetCode: 0 Status: OK