Package: NTW Version: 1.58.0 Command: /Library/Frameworks/R.framework/Resources/bin/R CMD check --install=check:NTW.install-out.txt --library=/Library/Frameworks/R.framework/Resources/library --no-vignettes --timings NTW_1.58.0.tar.gz StartedAt: 2025-09-20 05:30:12 -0400 (Sat, 20 Sep 2025) EndedAt: 2025-09-20 05:30:43 -0400 (Sat, 20 Sep 2025) EllapsedTime: 31.4 seconds RetCode: 0 Status: WARNINGS CheckDir: NTW.Rcheck Warnings: 1