Package: NPARC Version: 1.22.0 Command: /home/biocbuild/bbs-3.22-bioc/R/bin/R CMD build --keep-empty-dirs --no-resave-data --md5 NPARC StartedAt: 2025-11-09 19:09:43 -0500 (Sun, 09 Nov 2025) EndedAt: 2025-11-09 19:13:10 -0500 (Sun, 09 Nov 2025) EllapsedTime: 207.2 seconds RetCode: 0 Status: OK PackageFile: NPARC_1.22.0.tar.gz PackageFileSize: 2.258 MiB