Package: NPARC Version: 1.22.0 Command: /Library/Frameworks/R.framework/Resources/bin/R CMD build --keep-empty-dirs --no-resave-data NPARC StartedAt: 2025-11-09 17:14:09 -0500 (Sun, 09 Nov 2025) EndedAt: 2025-11-09 17:15:31 -0500 (Sun, 09 Nov 2025) EllapsedTime: 82.0 seconds RetCode: 0 Status: OK PackageFile: NPARC_1.22.0.tar.gz PackageFileSize: 2.306 MiB