Package: NOISeq Version: 2.52.0 Command: E:\biocbuild\bbs-3.21-bioc\R\bin\R.exe CMD check --no-multiarch --install=check:NOISeq.install-out.txt --library=E:\biocbuild\bbs-3.21-bioc\R\library --no-vignettes --timings NOISeq_2.52.0.tar.gz StartedAt: 2025-08-15 04:54:12 -0400 (Fri, 15 Aug 2025) EndedAt: 2025-08-15 04:56:27 -0400 (Fri, 15 Aug 2025) EllapsedTime: 135.6 seconds RetCode: 0 Status: OK CheckDir: NOISeq.Rcheck Warnings: 0