Package: NOISeq Version: 2.52.0 Command: rm -rf NOISeq.buildbin-libdir && mkdir NOISeq.buildbin-libdir && E:\biocbuild\bbs-3.21-bioc\R\bin\R.exe CMD INSTALL --build --library=NOISeq.buildbin-libdir NOISeq_2.52.0.tar.gz StartedAt: 2025-08-15 09:50:59 -0400 (Fri, 15 Aug 2025) EndedAt: 2025-08-15 09:51:36 -0400 (Fri, 15 Aug 2025) EllapsedTime: 37.4 seconds RetCode: 0 Status: OK PackageFile: NOISeq_2.52.0.zip PackageFileSize: 2.263 MiB