Package: NOISeq Version: 2.52.0 Command: /home/biocbuild/bbs-3.21-bioc/R/bin/R CMD check --install=check:NOISeq.install-out.txt --library=/home/biocbuild/bbs-3.21-bioc/R/site-library --timings NOISeq_2.52.0.tar.gz StartedAt: 2025-09-29 01:44:31 -0400 (Mon, 29 Sep 2025) EndedAt: 2025-09-29 01:46:41 -0400 (Mon, 29 Sep 2025) EllapsedTime: 130.1 seconds RetCode: 0 Status: OK CheckDir: NOISeq.Rcheck Warnings: 0