Package: NOISeq Version: 2.52.0 Command: /home/biocbuild/bbs-3.21-bioc/R/bin/R CMD build --keep-empty-dirs --no-resave-data NOISeq StartedAt: 2025-09-28 19:05:09 -0400 (Sun, 28 Sep 2025) EndedAt: 2025-09-28 19:06:28 -0400 (Sun, 28 Sep 2025) EllapsedTime: 79.1 seconds RetCode: 0 Status: OK PackageFile: NOISeq_2.52.0.tar.gz PackageFileSize: 2.058 MiB