Package: NOISeq Version: 2.52.0 Command: /Library/Frameworks/R.framework/Resources/bin/R CMD INSTALL NOISeq StartedAt: 2025-10-06 15:21:11 -0400 (Mon, 06 Oct 2025) EndedAt: 2025-10-06 15:21:40 -0400 (Mon, 06 Oct 2025) EllapsedTime: 29.0 seconds RetCode: 0 Status: OK