Package: NOISeq Version: 2.52.0 Command: /Library/Frameworks/R.framework/Resources/bin/R CMD check --install=check:NOISeq.install-out.txt --library=/Library/Frameworks/R.framework/Resources/library --no-vignettes --timings NOISeq_2.52.0.tar.gz StartedAt: 2025-10-07 07:21:31 -0400 (Tue, 07 Oct 2025) EndedAt: 2025-10-07 07:24:43 -0400 (Tue, 07 Oct 2025) EllapsedTime: 191.2 seconds RetCode: 0 Status: OK CheckDir: NOISeq.Rcheck Warnings: 0