Package: NOISeq Version: 2.52.0 Command: /Library/Frameworks/R.framework/Resources/bin/R CMD build --keep-empty-dirs --no-resave-data NOISeq StartedAt: 2025-10-06 21:06:11 -0400 (Mon, 06 Oct 2025) EndedAt: 2025-10-06 21:09:21 -0400 (Mon, 06 Oct 2025) EllapsedTime: 189.9 seconds RetCode: 0 Status: OK PackageFile: NOISeq_2.52.0.tar.gz PackageFileSize: 2.054 MiB