Package: NOISeq Version: 2.52.0 Command: rm -rf NOISeq.buildbin-libdir && mkdir NOISeq.buildbin-libdir && /Users/biocbuild/BBS/utils/build-universal.sh NOISeq_2.52.0.tar.gz /Library/Frameworks/R.framework/Resources/bin/R NOISeq.buildbin-libdir StartedAt: 2025-10-07 13:58:04 -0400 (Tue, 07 Oct 2025) EndedAt: 2025-10-07 13:58:49 -0400 (Tue, 07 Oct 2025) EllapsedTime: 44.7 seconds RetCode: 0 Status: OK PackageFile: NOISeq_2.52.0.tgz PackageFileSize: 2.425 MiB